BEGIN:VCALENDAR
VERSION:2.0
PRODID:-//L&#039;Olive Rose - ECPv6.15.20//NONSGML v1.0//EN
CALSCALE:GREGORIAN
METHOD:PUBLISH
X-WR-CALNAME:L&#039;Olive Rose
X-ORIGINAL-URL:https://loliverose.fr
X-WR-CALDESC:Évènements pour L&#039;Olive Rose
REFRESH-INTERVAL;VALUE=DURATION:PT1H
X-Robots-Tag:noindex
X-PUBLISHED-TTL:PT1H
BEGIN:VTIMEZONE
TZID:Europe/Paris
BEGIN:DAYLIGHT
TZOFFSETFROM:+0100
TZOFFSETTO:+0200
TZNAME:CEST
DTSTART:20230326T010000
END:DAYLIGHT
BEGIN:STANDARD
TZOFFSETFROM:+0200
TZOFFSETTO:+0100
TZNAME:CET
DTSTART:20231029T010000
END:STANDARD
BEGIN:DAYLIGHT
TZOFFSETFROM:+0100
TZOFFSETTO:+0200
TZNAME:CEST
DTSTART:20240331T010000
END:DAYLIGHT
BEGIN:STANDARD
TZOFFSETFROM:+0200
TZOFFSETTO:+0100
TZNAME:CET
DTSTART:20241027T010000
END:STANDARD
BEGIN:DAYLIGHT
TZOFFSETFROM:+0100
TZOFFSETTO:+0200
TZNAME:CEST
DTSTART:20250330T010000
END:DAYLIGHT
BEGIN:STANDARD
TZOFFSETFROM:+0200
TZOFFSETTO:+0100
TZNAME:CET
DTSTART:20251026T010000
END:STANDARD
END:VTIMEZONE
BEGIN:VEVENT
DTSTART;TZID=Europe/Paris:20241218T170000
DTEND;TZID=Europe/Paris:20241218T200000
DTSTAMP:20260425T181311
CREATED:20250320T111333Z
LAST-MODIFIED:20250320T112156Z
UID:1752-1734541200-1734552000@loliverose.fr
SUMMARY:Marché de Noël AMAP
DESCRIPTION:Mercredi 18 décembre on se retrouve au marché de Noël organisé par @iamapy_rennes ! \nRendez-vous de 17h à 20h pour rencontrer producteur.ices et créateur.ices locaux ✨ \nL’Amap vous prépare une petite soirée agréable avec des dégustations de produits locaux 🍯🍺 \nEt pour vos cadeaux : \n🌲@ortie.douce Objet en laine feutrée et fleurs séchées\n🌲@loonitabijoux Bijoux en micro macramé\n🌲@bleubotaniquerennes Cyanotypes\n🌲@coeurdialement__ Illustrations\n🌲@l.olive_rose Accessoires en crochet \nEntrée libre
URL:https://loliverose.fr/event/marche-de-noel-amap/
LOCATION:AMAP de Bourg l’évêque\, 16 rue Papu\, Rennes\, 35000\, France
ATTACH;FMTTYPE=image/png:https://loliverose.fr/wp-content/uploads/2025/03/Marche-de-Noel-1.png
END:VEVENT
END:VCALENDAR