BEGIN:VCALENDAR
VERSION:2.0
PRODID:-//L&#039;Olive Rose - ECPv6.15.20//NONSGML v1.0//EN
CALSCALE:GREGORIAN
METHOD:PUBLISH
X-ORIGINAL-URL:https://loliverose.fr
X-WR-CALDESC:Évènements pour L&#039;Olive Rose
REFRESH-INTERVAL;VALUE=DURATION:PT1H
X-Robots-Tag:noindex
X-PUBLISHED-TTL:PT1H
BEGIN:VTIMEZONE
TZID:Europe/Paris
BEGIN:DAYLIGHT
TZOFFSETFROM:+0100
TZOFFSETTO:+0200
TZNAME:CEST
DTSTART:20240331T010000
END:DAYLIGHT
BEGIN:STANDARD
TZOFFSETFROM:+0200
TZOFFSETTO:+0100
TZNAME:CET
DTSTART:20241027T010000
END:STANDARD
BEGIN:DAYLIGHT
TZOFFSETFROM:+0100
TZOFFSETTO:+0200
TZNAME:CEST
DTSTART:20250330T010000
END:DAYLIGHT
BEGIN:STANDARD
TZOFFSETFROM:+0200
TZOFFSETTO:+0100
TZNAME:CET
DTSTART:20251026T010000
END:STANDARD
BEGIN:DAYLIGHT
TZOFFSETFROM:+0100
TZOFFSETTO:+0200
TZNAME:CEST
DTSTART:20260329T010000
END:DAYLIGHT
BEGIN:STANDARD
TZOFFSETFROM:+0200
TZOFFSETTO:+0100
TZNAME:CET
DTSTART:20261025T010000
END:STANDARD
END:VTIMEZONE
BEGIN:VEVENT
DTSTART;TZID=Europe/Paris:20251018T100000
DTEND;TZID=Europe/Paris:20251018T123000
DTSTAMP:20260425T031913
CREATED:20250819T155702Z
LAST-MODIFIED:20250819T155702Z
UID:2257-1760781600-1760790600@loliverose.fr
SUMMARY:Cours de crochet - réalisation d'un accessoire
DESCRIPTION:Ce cours de crochet est réservé aux débutant.es qui ont suivi le cours sur l’apprentissage des bases ou qui connaissent déjà les points de bases du crochet.\nNous allons apprendre à réaliser une fleur en suivant un patron écrit et son diagramme.
URL:https://loliverose.fr/event/cours-de-crochet-realisation-dun-accessoire-2/
LOCATION:Maison des Arts du Fil\, 55 Avenue des Pays Bas\, Rennes\, 35200\, France
ATTACH;FMTTYPE=image/png:https://loliverose.fr/wp-content/uploads/2025/08/Realisation-daccessoire.png
ORGANIZER;CN="L'Olive Rose":MAILTO:loliverose.creations@gmail.com
END:VEVENT
END:VCALENDAR