BEGIN:VCALENDAR
VERSION:2.0
PRODID:-//L&#039;Olive Rose - ECPv6.15.20//NONSGML v1.0//EN
CALSCALE:GREGORIAN
METHOD:PUBLISH
X-ORIGINAL-URL:https://loliverose.fr
X-WR-CALDESC:Évènements pour L&#039;Olive Rose
REFRESH-INTERVAL;VALUE=DURATION:PT1H
X-Robots-Tag:noindex
X-PUBLISHED-TTL:PT1H
BEGIN:VTIMEZONE
TZID:Europe/Paris
BEGIN:DAYLIGHT
TZOFFSETFROM:+0100
TZOFFSETTO:+0200
TZNAME:CEST
DTSTART:20230326T010000
END:DAYLIGHT
BEGIN:STANDARD
TZOFFSETFROM:+0200
TZOFFSETTO:+0100
TZNAME:CET
DTSTART:20231029T010000
END:STANDARD
BEGIN:DAYLIGHT
TZOFFSETFROM:+0100
TZOFFSETTO:+0200
TZNAME:CEST
DTSTART:20240331T010000
END:DAYLIGHT
BEGIN:STANDARD
TZOFFSETFROM:+0200
TZOFFSETTO:+0100
TZNAME:CET
DTSTART:20241027T010000
END:STANDARD
BEGIN:DAYLIGHT
TZOFFSETFROM:+0100
TZOFFSETTO:+0200
TZNAME:CEST
DTSTART:20250330T010000
END:DAYLIGHT
BEGIN:STANDARD
TZOFFSETFROM:+0200
TZOFFSETTO:+0100
TZNAME:CET
DTSTART:20251026T010000
END:STANDARD
BEGIN:DAYLIGHT
TZOFFSETFROM:+0100
TZOFFSETTO:+0200
TZNAME:CEST
DTSTART:20260329T010000
END:DAYLIGHT
BEGIN:STANDARD
TZOFFSETFROM:+0200
TZOFFSETTO:+0100
TZNAME:CET
DTSTART:20261025T010000
END:STANDARD
BEGIN:DAYLIGHT
TZOFFSETFROM:+0100
TZOFFSETTO:+0200
TZNAME:CEST
DTSTART:20270328T010000
END:DAYLIGHT
BEGIN:STANDARD
TZOFFSETFROM:+0200
TZOFFSETTO:+0100
TZNAME:CET
DTSTART:20271031T010000
END:STANDARD
END:VTIMEZONE
BEGIN:VEVENT
DTSTART;TZID=Europe/Paris:20260404T180000
DTEND;TZID=Europe/Paris:20260404T220000
DTSTAMP:20260424T200029
CREATED:20260319T104301Z
LAST-MODIFIED:20260319T104352Z
UID:2863-1775325600-1775340000@loliverose.fr
SUMMARY:Pop-up Store Eternelle Renaissance - Pyjama party
DESCRIPTION:On se retrouve samedi 4 avril au bar La Deuxième Chaussette pour la pyjama party d’Eternelle Renaissance ! \nAu programme : concours de la meilleure chaussette et un jeu de chamboule tout ! Et bien sûr les créations de Dyschroma\, Reflet Clémentine\, Lunaria Bijoux et L’Olive Rose !
URL:https://loliverose.fr/event/pop-up-store-eternelle-renaissance-pyjama-party/
LOCATION:La Deuxième Chaussette\, 73 rue de Dinan\, Rennes\, 35000\, France
ATTACH;FMTTYPE=image/jpeg:https://loliverose.fr/wp-content/uploads/2026/03/648960469_3939845466151007_7152693948691800055_n-scaled.jpg
END:VEVENT
BEGIN:VEVENT
DTSTART;TZID=Europe/Paris:20260307T100000
DTEND;TZID=Europe/Paris:20260307T123000
DTSTAMP:20260424T200029
CREATED:20260128T122842Z
LAST-MODIFIED:20260128T122842Z
UID:2659-1772877600-1772886600@loliverose.fr
SUMMARY:Atelier crochet - apprendre les bases du crochet
DESCRIPTION:Ce cours de crochet est réservé aux débutant.es qui souhaitent apprendre les points de bases.\nNous allons apprendre quatre points de base du crochet (maille serrée\, demi-bride\, bride et double bride). Ce sont les points principaux qui vous permettent par la suite de réaliser de superbes création au crochet ! \nA l’issue de ce cours\, vous repartirez avec un dossier (numérique) reprenant tous les points vus au cours de ces 2h30 ainsi que vos échantillons. \nLe matériel vous sera fourni. Nous travaillerons avec de la laine 
URL:https://loliverose.fr/event/atelier-crochet-apprendre-les-bases-du-crochet/
LOCATION:Maison des Arts du Fil\, 55 Avenue des Pays Bas\, Rennes\, 35200\, France
ATTACH;FMTTYPE=image/png:https://loliverose.fr/wp-content/uploads/2025/03/10.png
ORGANIZER;CN="L'Olive Rose":MAILTO:loliverose.creations@gmail.com
END:VEVENT
BEGIN:VEVENT
DTSTART;TZID=Europe/Paris:20260228T100000
DTEND;TZID=Europe/Paris:20260228T120000
DTSTAMP:20260424T200029
CREATED:20260128T103424Z
LAST-MODIFIED:20260128T103424Z
UID:2653-1772272800-1772280000@loliverose.fr
SUMMARY:Atelier crochet : crée ton marque-page en laine au crochet
DESCRIPTION:Durant cet atelier de 2h\, nous allons apprendre à crocheter un marque-page au crochet ! \n\nMatériel fourni\n\nInscription par mail : loliverose.creations@gmail.com ou message instagram : @l.olive_rose
URL:https://loliverose.fr/event/atelier-crochet-cree-ton-marque-page-en-laine-au-crochet/
LOCATION:Les Trois Marguerites\, 30 rue Saint Melaine\, Rennes\, 35000\, France
ATTACH;FMTTYPE=image/jpeg:https://loliverose.fr/wp-content/uploads/2026/01/1764082065414-scaled.jpg
ORGANIZER;CN="L'Olive Rose":MAILTO:loliverose.creations@gmail.com
END:VEVENT
BEGIN:VEVENT
DTSTART;TZID=Europe/Paris:20251217T170000
DTEND;TZID=Europe/Paris:20251217T200000
DTSTAMP:20260424T200029
CREATED:20260128T102625Z
LAST-MODIFIED:20260128T102625Z
UID:2651-1765990800-1766001600@loliverose.fr
SUMMARY:Marché de Noël AMAP
DESCRIPTION:Les producteur.ices de l’AMAP seront présent.es et accompagnés de créatrices locales !
URL:https://loliverose.fr/event/marche-de-noel-amap-2/
LOCATION:AMAP de Bourg l’évêque\, 16 rue Papu\, Rennes\, 35000\, France
END:VEVENT
BEGIN:VEVENT
DTSTART;TZID=Europe/Paris:20251211T153000
DTEND;TZID=Europe/Paris:20251211T193000
DTSTAMP:20260424T200029
CREATED:20260128T102426Z
LAST-MODIFIED:20260128T102426Z
UID:2649-1765467000-1765481400@loliverose.fr
SUMMARY:Marché de Noël Campus Eductive
DESCRIPTION:
URL:https://loliverose.fr/event/marche-de-noel-campus-eductive/
END:VEVENT
BEGIN:VEVENT
DTSTART;TZID=Europe/Paris:20251206T193000
DTEND;TZID=Europe/Paris:20251207T190000
DTSTAMP:20260424T200029
CREATED:20250819T160227Z
LAST-MODIFIED:20250819T160227Z
UID:2259-1765049400-1765134000@loliverose.fr
SUMMARY:Marché de Noël Amnesty International
DESCRIPTION:Rencontrez Amnesty International et son combat pour les Droits Humains et profitez d’un marché de créateur.ices remplis de nombreux artistes et artisans créateurs locaux.
URL:https://loliverose.fr/event/marche-de-noel-amnesty-international/
LOCATION:Halle Martenot\, Place des Lices\, Rennes\, 35000\, France
ORGANIZER;CN="Amnesty International Rennes":MAILTO:rennes1@amnestyfrance.fr
END:VEVENT
BEGIN:VEVENT
DTSTART;TZID=Europe/Paris:20251129T100000
DTEND;TZID=Europe/Paris:20251130T190000
DTSTAMP:20260424T200029
CREATED:20260128T102123Z
LAST-MODIFIED:20260128T102123Z
UID:2646-1764410400-1764529200@loliverose.fr
SUMMARY:Marché de Noël La Maison des Arts du fil
DESCRIPTION:Retrouvez des créatrices spécialisé dans les arts du fil lors de ce premier marché de Noël organisé par La Maison des Arts du fil !
URL:https://loliverose.fr/event/marche-de-noel-la-maison-des-arts-du-fil/
LOCATION:Maison des Arts du Fil\, 55 Avenue des Pays Bas\, Rennes\, 35200\, France
END:VEVENT
BEGIN:VEVENT
DTSTART;TZID=Europe/Paris:20251018T100000
DTEND;TZID=Europe/Paris:20251018T123000
DTSTAMP:20260424T200029
CREATED:20250819T155702Z
LAST-MODIFIED:20250819T155702Z
UID:2257-1760781600-1760790600@loliverose.fr
SUMMARY:Cours de crochet - réalisation d'un accessoire
DESCRIPTION:Ce cours de crochet est réservé aux débutant.es qui ont suivi le cours sur l’apprentissage des bases ou qui connaissent déjà les points de bases du crochet.\nNous allons apprendre à réaliser une fleur en suivant un patron écrit et son diagramme.
URL:https://loliverose.fr/event/cours-de-crochet-realisation-dun-accessoire-2/
LOCATION:Maison des Arts du Fil\, 55 Avenue des Pays Bas\, Rennes\, 35200\, France
ATTACH;FMTTYPE=image/png:https://loliverose.fr/wp-content/uploads/2025/08/Realisation-daccessoire.png
ORGANIZER;CN="L'Olive Rose":MAILTO:loliverose.creations@gmail.com
END:VEVENT
BEGIN:VEVENT
DTSTART;TZID=Europe/Paris:20251011T100000
DTEND;TZID=Europe/Paris:20251011T123000
DTSTAMP:20260424T200029
CREATED:20250819T155207Z
LAST-MODIFIED:20250819T155207Z
UID:2253-1760176800-1760185800@loliverose.fr
SUMMARY:Cours de crochet - apprentissage des bases
DESCRIPTION:Ce cours de crochet est réservé aux débutant.es qui souhaitent apprendre les points de bases.\nNous allons apprendre quatre points de base du crochet (maille serrée\, bride…)
URL:https://loliverose.fr/event/cours-de-crochet-apprentissage-des-bases-2/
LOCATION:Maison des Arts du Fil\, 55 Avenue des Pays Bas\, Rennes\, 35200\, France
ATTACH;FMTTYPE=image/png:https://loliverose.fr/wp-content/uploads/2025/03/Apprentissage-des-bases.png
ORGANIZER;CN="L'Olive Rose":MAILTO:loliverose.creations@gmail.com
END:VEVENT
BEGIN:VEVENT
DTSTART;TZID=Europe/Paris:20250920T100000
DTEND;TZID=Europe/Paris:20250920T123000
DTSTAMP:20260424T200029
CREATED:20250819T155423Z
LAST-MODIFIED:20250819T155423Z
UID:2255-1758362400-1758371400@loliverose.fr
SUMMARY:Cours de crochet - réalisation d'un accessoire
DESCRIPTION:Ce cours de crochet est réservé aux débutant.es qui ont suivi le cours sur l’apprentissage des bases ou qui connaissent déjà les points de bases du crochet.\nNous allons apprendre à réaliser une fleur en suivant un patron écrit et son diagramme.
URL:https://loliverose.fr/event/cours-de-crochet-realisation-dun-accessoire/
LOCATION:Maison des Arts du Fil\, 55 Avenue des Pays Bas\, Rennes\, 35200\, France
ORGANIZER;CN="L'Olive Rose":MAILTO:loliverose.creations@gmail.com
END:VEVENT
BEGIN:VEVENT
DTSTART;TZID=Europe/Paris:20250913T100000
DTEND;TZID=Europe/Paris:20250913T123000
DTSTAMP:20260424T200029
CREATED:20250819T154508Z
LAST-MODIFIED:20250819T154508Z
UID:2251-1757757600-1757766600@loliverose.fr
SUMMARY:Cours de crochet - apprentissage des bases
DESCRIPTION:Ce cours de crochet est réservé aux débutant.es qui souhaitent apprendre les points de bases.\nNous allons apprendre quatre points de base du crochet (maille serrée\, bride…)
URL:https://loliverose.fr/event/cours-de-crochet-apprentissage-des-bases/
LOCATION:Maison des Arts du Fil\, 55 Avenue des Pays Bas\, Rennes\, 35200\, France
ATTACH;FMTTYPE=image/png:https://loliverose.fr/wp-content/uploads/2025/03/Apprentissage-des-bases.png
ORGANIZER;CN="L'Olive Rose":MAILTO:loliverose.creations@gmail.com
END:VEVENT
BEGIN:VEVENT
DTSTART;TZID=Europe/Paris:20250625T000000
DTEND;TZID=Europe/Paris:20250625T235959
DTSTAMP:20260424T200029
CREATED:20250320T130001Z
LAST-MODIFIED:20250320T130001Z
UID:1772-1750809600-1750895999@loliverose.fr
SUMMARY:Grande braderie
DESCRIPTION:Le mercredi 25 Juin\, la grande braderie de Rennes revient avec son espace producteurs/ artisans ! \nCette année je serais accompagné de @refletsclementine\, @dyschroma_art et @lunaria_bijoux !
URL:https://loliverose.fr/event/grande-braderie-2/
LOCATION:Place Hoche\, Place Hoche\, Rennes\, 35000\, France
END:VEVENT
BEGIN:VEVENT
DTSTART;TZID=Europe/Paris:20250525T100000
DTEND;TZID=Europe/Paris:20250525T220000
DTSTAMP:20260424T200029
CREATED:20250429T090408Z
LAST-MODIFIED:20250429T090408Z
UID:1945-1748167200-1748210400@loliverose.fr
SUMMARY:Marché de créateur.ices
DESCRIPTION:Marché d’artisan.es aux Halles Martenot place des Lices à Rennes.
URL:https://loliverose.fr/event/marche-de-createur-ices-2/
LOCATION:Halle Martenot\, Place des Lices\, Rennes\, 35000\, France
END:VEVENT
BEGIN:VEVENT
DTSTART;TZID=Europe/Paris:20250524T100000
DTEND;TZID=Europe/Paris:20250524T123000
DTSTAMP:20260424T200029
CREATED:20250429T085746Z
LAST-MODIFIED:20250429T085746Z
UID:1941-1748080800-1748089800@loliverose.fr
SUMMARY:Cours de crochet
DESCRIPTION:Ce cours de crochet est réservé aux débutant.es qui souhaitent apprendre les points de bases.\nNous allons apprendre quatre points de base du crochet (maille serrée\, bride…) \nA l’issue de ce cours\, vous repartirez avec un dossier (numérique) reprenant tous les points vus au cours de ces 2h30\, un patron pour réaliser une petite fleur et un peu de laine pour terminer votre projet. \nLe matériel vous sera fourni. Nous travaillerons avec de la laine 🐑
URL:https://loliverose.fr/event/cours-de-crochet/
LOCATION:Maison des Arts du Fil\, 55 Avenue des Pays Bas\, Rennes\, 35200\, France
ATTACH;FMTTYPE=image/png:https://loliverose.fr/wp-content/uploads/2025/03/Cours-de-crochet-MAF-1.png
ORGANIZER;CN="L'Olive Rose":MAILTO:loliverose.creations@gmail.com
END:VEVENT
BEGIN:VEVENT
DTSTART;TZID=Europe/Paris:20250523T170000
DTEND;TZID=Europe/Paris:20250523T200000
DTSTAMP:20260424T200029
CREATED:20250429T085246Z
LAST-MODIFIED:20250429T085246Z
UID:1937-1748019600-1748030400@loliverose.fr
SUMMARY:Marché créateur.ices
DESCRIPTION:Un marché organisé par les lycéens du lycée Saint-Yves à Bain de Bretagne. \nPlus d’informations à venir 🙂
URL:https://loliverose.fr/event/marche-createur-ices/
LOCATION:Lycée Saint-Yves\, Rue Sainte Emerance\, Bain-de-Bretagne\, 35470\, France
END:VEVENT
BEGIN:VEVENT
DTSTART;TZID=Europe/Paris:20241221T140000
DTEND;TZID=Europe/Paris:20241221T180000
DTSTAMP:20260424T200029
CREATED:20250320T112027Z
LAST-MODIFIED:20250320T112027Z
UID:1757-1734789600-1734804000@loliverose.fr
SUMMARY:La curieuse buvette
DESCRIPTION:Je serais présente le Samedi 21 décembre à la Reine de Cœur\, pour un marché de Noël de créateur.ices !
URL:https://loliverose.fr/event/la-curieuse-buvette/
LOCATION:La Reine de Coeur\, 44 Rue de Saint-Brieuc\, Rennes\, 35000\, France
ATTACH;FMTTYPE=image/png:https://loliverose.fr/wp-content/uploads/2025/03/La-curieuse-buvette-1.png
END:VEVENT
BEGIN:VEVENT
DTSTART;TZID=Europe/Paris:20241220T110000
DTEND;TZID=Europe/Paris:20241222T190000
DTSTAMP:20260424T200029
CREATED:20250320T125050Z
LAST-MODIFIED:20250320T125050Z
UID:1768-1734692400-1734894000@loliverose.fr
SUMMARY:Marché de Noël Eternelle Renaissance
DESCRIPTION:🎄⭐️POP UP STORE – ETERNELLE RENAISSANCE \nOn est de retouuuurr !!! Et on a plus que hâte parce qu’on vous présente notre 5ème Édition : Cosy & Magic Christmas 🎄⭐️ \n🎄Vendredi 20\, Samedi 21 & Dimanche 22 Décembre à @laparcheminerie !\nVenez nous rencontrer le week end juste avant Noël\, parfait les cadeaux de dernière minutes : \n⭐️L’Olive rose • Crochet @l.olive_rose \n⭐️ Reflets Clémentine • Vitrail @refletsclementine \n⭐️ Dyschroma art • Bijoux magiques • Tattoo éphémère • Illustration @dyschroma_art \n⭐️Lunaria • Bijoux féériques en acier inoxydable @lunaria_bijoux \nGUEST :\n🎄Batarde • Vêtement & accessoires Upcycling @batarde.shop \n🎄L’île à Léa • Linogravure @ile.a.lea \n🎄HollyBroderie • Broderie & kits en point de croix féministes @hollybroderie \n🎄Déplumeuse de chats • Illustrations @deplumeusedechats \n🎄Paulie Bijoux • Bijoux pâte polymère @paulie_bijoux \nSamedi 21\n🎄Bleu botanique • Illustration végétale cyanotype @bleubotaniquerennes \nDimanche 22\n🎄Rouge gorge profonde • Illustration engagée et féministe @rouge_gorge_profonde \nAdresse : 20 rue Poullain Duparc 35000 Rennes \nOn a hâte de vous y voir ⭐️✨🎄
URL:https://loliverose.fr/event/marche-de-noel-eternelle-renaissance-2/
LOCATION:La Parcheminerie\, 20 rue Poullain Duparc\, Rennes\, 35000\, France
ATTACH;FMTTYPE=image/jpeg:https://loliverose.fr/wp-content/uploads/2025/03/NOEL-ETERNELLE-RENAISSANCE-Affiche-A3-scaled.jpg
END:VEVENT
BEGIN:VEVENT
DTSTART;TZID=Europe/Paris:20241218T170000
DTEND;TZID=Europe/Paris:20241218T200000
DTSTAMP:20260424T200029
CREATED:20250320T111333Z
LAST-MODIFIED:20250320T112156Z
UID:1752-1734541200-1734552000@loliverose.fr
SUMMARY:Marché de Noël AMAP
DESCRIPTION:Mercredi 18 décembre on se retrouve au marché de Noël organisé par @iamapy_rennes ! \nRendez-vous de 17h à 20h pour rencontrer producteur.ices et créateur.ices locaux ✨ \nL’Amap vous prépare une petite soirée agréable avec des dégustations de produits locaux 🍯🍺 \nEt pour vos cadeaux : \n🌲@ortie.douce Objet en laine feutrée et fleurs séchées\n🌲@loonitabijoux Bijoux en micro macramé\n🌲@bleubotaniquerennes Cyanotypes\n🌲@coeurdialement__ Illustrations\n🌲@l.olive_rose Accessoires en crochet \nEntrée libre
URL:https://loliverose.fr/event/marche-de-noel-amap/
LOCATION:AMAP de Bourg l’évêque\, 16 rue Papu\, Rennes\, 35000\, France
ATTACH;FMTTYPE=image/png:https://loliverose.fr/wp-content/uploads/2025/03/Marche-de-Noel-1.png
END:VEVENT
BEGIN:VEVENT
DTSTART;TZID=Europe/Paris:20241213T160000
DTEND;TZID=Europe/Paris:20241215T170000
DTSTAMP:20260424T200029
CREATED:20250320T110948Z
LAST-MODIFIED:20250320T110948Z
UID:1747-1734105600-1734282000@loliverose.fr
SUMMARY:Marché de Noël
DESCRIPTION:Le compte à rebours est lancé avant Noël. Synonyme de joie et de partage\, cette période particulière des fêtes de fin d’année devrait enchanter les Grégoriens cette année encore. Boule à neige géante\, marché des créateurs\, village gourmand\, spectacles différents et quelques nouveautés : l’esprit de Noël est bien là ! \n\n\nBoîte aux lettres du Père Noël !\n\n\nEncore quelques semaines à attendre pour décorer le sapin et mettre nos petits et grands souliers dessous. Et plus un instant à perdre pour envoyer notre lettre au Père Noël ! Sa boîte aux lettres sera installée dans le hall de la mairie jusqu’ au 20 décembre ! N’oubliez pas d’indiquer votre adresse afin que le Père Noël et ses lutins vous répondent. \n\n\nAnimations de Noël\, Vendredi 13 décembre de 16h à 21h\, samedi 14 décembre de 16h à 21h et dimanche 15 décembre de 10h à 13h et de 14h30 à 17h\,\n\n\n\nLa ville se met aux couleurs des fêtes de fin d’année et vous propose\, du vendredi 13 au dimanche 15 décembre\, quelques surprises\, sur le parvis de la Mairie et Espace Chateaubriand.\n• Marché des créateurs \, à l’espace Chateaubriand les vendredi 13 et samedi 14 décembre de 16h à 21h et le dimanche 15 décembre de 10h à 13h et de 14h30 à 17h.  Les visiteurs pourront ainsi faire leurs derniers achats de Noël\, qu’il s’agisse de décorations ou de cadeaux. (Entrée gratuite). \n• Venue du Père Noël\, en déambulation sur le parvis\, vendredi 13 et samedi 14 décembre de 17h à 19h et dimanche 15 décembre de 11h à 12h et de 15h à 16h. ! (Animation gratuite) \n• Boule à neige géante\, installée dès le vendredi à 16h sur le parvis de la Mairie. Entrez dans la magie de Noël …(Animation gratuite) \n• Rencontrez vos commerçants au village gourmand sur le parvis de la Mairie et laissez-vous tenter par quelques gourmandises… (vendredi et samedi 16h – 21h et dimanche 10h – 13h et 14h30 – 17h) \n• SPECTACLES (1 spectacle différent par jour) :\nLe vendredi soir\, déambulation de personnages lumineux sur échasses accompagnés d’un jongleur. 2 passages de 40min : 17h30 et 19h15\nLe samedi soir\, spectacle de feu (3 artistes – 30min – place de l’église\, devant la crêperie du marché). 2 passages : 18h et 19h15. Installez-vous sur les marches de la mairie !\nLe dimanche en journée\, déambulation de 2 échassières accompagnées d’un jongleur ! 2 passages : 11h30 et 15h30 \n• NOUVEAUTÉ : Manège de 32 places sera installé sur le parking de la rue Chateaubriand pour le plus grand plaisir de nos enfants ! \n• NOUVEAUTÉ : Une piste de luge amusera petits et grands le dimanche sur la place de l’Eglise devant la crêperie du marché. \n*Marché des créateurs \n\nUne envie de papier – papeterie\, décoration en papier\n\nNadine Allain – objet en bois (vendredi et samedi)\nM. Servaes – chatourneur (dimanche)\nAK Relooking – relooking meubles et objets\nBA Bijoux – bijoux\nBénédicte Klène – livres d’artistes et carnets\nC&C by Oréli – accessoires coutures bio pour bébé\nChantal Béasse – accessoire prêt-à-porter\nCubito – luminaires\nElle et la Terre – bijoux en céramique (samedi et dimanche)\nLes blouses roses – objets divers\nL’Olive rose – objets en crochet\nNath création – prêt-à-porter (vendredi et samedi)\nPlum et moi – objets de décoration\nFleurs de Frolou – fleurs séchées\nUne tribu à la plage – tableaux huilés\n\n* Village gourmand \n\nCrêpes Louisette – crêpes sucrées et cookies\nSuper U Saint-Grégoire – tartiflette\, foie gras\, magret fumé et séché\, pain d’épices\, bûches de Noël\, coffrets de Noël\, …\nGruss Gott – patisseries allemandes et vin chaud\nLes Epicuriens – galettes saucisse\, gaufres\nMadeloiselle Fayel – glaces artisanales (uniquement le dimanche)
URL:https://loliverose.fr/event/marche-de-noel/
LOCATION:Espace Chateaubriand\, 5 rue Chateaubriand\, Saint-Grégoire\, 35760\, France
END:VEVENT
BEGIN:VEVENT
DTSTART;TZID=Europe/Paris:20241206T100000
DTEND;TZID=Europe/Paris:20241208T210000
DTSTAMP:20260424T200029
CREATED:20250320T110426Z
LAST-MODIFIED:20250320T110426Z
UID:1742-1733479200-1733691600@loliverose.fr
SUMMARY:Marché des talentueuses
DESCRIPTION:🎄Que serait une fin d’année chez Palpite sans Marché de Noël ?🎁🎁🎁\n🗓 Cette année\, Palpite accueille le Marché des Talentueuses du vendredi 6 au dimanche 8 décembre 🎅\nPendant trois jours\, le Marché des Talentueuses\, organisé par @lesfleursbavardes \, c’est : \n🌺Plus de 15 CRÉATRICES à découvrir avec des NOUVEAUX STANDS chaque jour de 10h à 21h ! \n🍰Un coin GOURMAND avec des PÂTISSIÈRES hors pair \n⛱️Un coin détente et CHILL face à la Vilaine \n✂️3 ATELIERS le vendredi après midi ! \n🎁Des SURPRISES sur place et des CONCOURS auxquels participer avant l’ouverture du Pop’Up! \nAvec : \n@lesfleursbavardes @la_fabrik_a_fleurs35\n@maum_creation @groovy_fripes\n@soleildanslame @hola__amore\n@bellint_lt @musc_of_dream\n@beautytimeby_es @lorgacreativ\n@l.olive_rose @jasminetisseusedefil\n@ourse.rouge @smd.natural\n@leslyloumandises @rouge_gorge_profonde\n@ines__nines @orientalfood35
URL:https://loliverose.fr/event/marche-des-talentueuses/
LOCATION:Palpite\, 26 rue de Léon\, Rennes\, 35000\, France
END:VEVENT
BEGIN:VEVENT
DTSTART;TZID=Europe/Paris:20241020T100000
DTEND;TZID=Europe/Paris:20241020T190000
DTSTAMP:20260424T200029
CREATED:20241008T072738Z
LAST-MODIFIED:20241008T072738Z
UID:1415-1729418400-1729450800@loliverose.fr
SUMMARY:Salon des artisans et commerçants
DESCRIPTION:Le premier salon organisé par le Carré Rennais. \nRendez-vous dimanche 20 octobre à la Halle Martenot (pl. des Lices) pour (re)découvrir le travail de vos artisans et commerçants ! \n60 stands animés par les commerçants rennais\, ateliers\, dégustations\, défilés de mode\, DJ et un concours ! \n🗓️ Dimanche 20 octobre\n➡️ Entrée gratuite\n🕙 de 10h à 19h\n📍 Halle Martenot – Place des Lices \nMerci à @aurelie.guillerey pour cette super affiche !
URL:https://loliverose.fr/event/salon-des-artisans-et-commercants/
LOCATION:Halle Martenot\, Place des Lices\, Rennes\, 35000\, France
ATTACH;FMTTYPE=image/jpeg:https://loliverose.fr/wp-content/uploads/2024/10/1200x1200.jpg
END:VEVENT
BEGIN:VEVENT
DTSTART;TZID=Europe/Paris:20241012T110000
DTEND;TZID=Europe/Paris:20241013T180000
DTSTAMP:20260424T200029
CREATED:20241008T072327Z
LAST-MODIFIED:20241008T072327Z
UID:1411-1728730800-1728842400@loliverose.fr
SUMMARY:Pop-Up store Éternelle Renaissance
DESCRIPTION:On est heureuse de vous présenter notre 4ème Édition : Witchy 💎🧙🏿‍♀️💜🌿 \n💎 Samedi 12 & Dimanche 13 Octobre à la Parcheminerie \nVenez plonger dans les univers des créatrices : \n🔮 Lunaria • Bijoux féériques en acier inoxydable • @lunaria_bijoux \n🔮 Dyschroma Art • Bijoux magiques • Tattoo éphémère • Illustration • @dyschroma_art \n🔮 Reflets Clementine • Vitrail • @refletsclementine \n🔮 L’Olive Rose • Crochet • @l.olive_rose \nGUEST :\n💎 Jessie’s stuff • Sac • Upcycling • Couture • @jessie.s.stuff \n💎 Coeurdialement • Illustration • @coeurdialement__ \n💎 Polymauve • Vêtement • Accessoire • Upcycling • @polymauve \n💎 Les Travaux d’achille • Broderie • Assiette • @les_travaux_dachille \nAdresse : 20 rue Poullain Duparc 35000 Rennes \n🌿 ATELIER DIY GRATUIT 🌿\nBâtons de fumigation\nde 14h à 20h\nSAMEDI 12.10\n+ SURPRIIIIISE \nENTRÉE GRATUITE
URL:https://loliverose.fr/event/pop-up-store-eternelle-renaissance-4/
LOCATION:La Parcheminerie\, 20 rue Poullain Duparc\, Rennes\, 35000\, France
ATTACH;FMTTYPE=image/jpeg:https://loliverose.fr/wp-content/uploads/2024/10/WITCHY-ETERNELLE-RENAISSANCE-affichetarot-1.jpg
END:VEVENT
BEGIN:VEVENT
DTSTART;TZID=Europe/Paris:20240929T150000
DTEND;TZID=Europe/Paris:20240929T200000
DTSTAMP:20260424T200029
CREATED:20240912T164320Z
LAST-MODIFIED:20240912T164320Z
UID:1406-1727622000-1727640000@loliverose.fr
SUMMARY:Marché de créateur.ices Grabuge
DESCRIPTION:Je serais présente\, parmi les créateur.ices de Rennes au marché (presque) hebdomadaire de Grabuge (quartier la Courrouze à deux pas du métro B\, ou ligne C6 arrêt « Coeur de Courrouze »). \nEntrée gratuite 🙂
URL:https://loliverose.fr/event/marche-de-createur-ices-grabuge-2/
LOCATION:Grabuge\, Les Halles en Commun\, 24 avenue Jules Maniez\, Rennes\, 35000\, France
END:VEVENT
BEGIN:VEVENT
DTSTART;TZID=Europe/Paris:20240915T150000
DTEND;TZID=Europe/Paris:20240915T200000
DTSTAMP:20260424T200029
CREATED:20240912T163513Z
LAST-MODIFIED:20240912T163513Z
UID:1398-1726412400-1726430400@loliverose.fr
SUMMARY:Marché de créateur.ices Grabuge
DESCRIPTION:Je serais présente\, parmi les créateur.ices de Rennes au marché (presque) hebdomadaire de Grabuge (quartier la Courrouze à deux pas du métro B\, ou ligne C6 arrêt « Coeur de Courrouze »). \nEntrée gratuite 🙂
URL:https://loliverose.fr/event/marche-de-createur-ices-grabuge/
LOCATION:Grabuge\, Les Halles en Commun\, 24 avenue Jules Maniez\, Rennes\, 35000\, France
END:VEVENT
BEGIN:VEVENT
DTSTART;TZID=Europe/Paris:20240908T150000
DTEND;TZID=Europe/Paris:20240908T200000
DTSTAMP:20260424T200029
CREATED:20240912T164126Z
LAST-MODIFIED:20240912T164126Z
UID:1404-1725807600-1725825600@loliverose.fr
SUMMARY:Marché de créateur.ices
DESCRIPTION:Je serais présente\, parmi les créateur.ices de Rennes au marché (presque) hebdomadaire de Grabuge (quartier la Courrouze à deux pas du métro B\, ou ligne C6 arrêt « Coeur de Courrouze »). \nEntrée gratuite 🙂
URL:https://loliverose.fr/event/marche-de-createur-ices/
LOCATION:Grabuge\, Les Halles en Commun\, 24 avenue Jules Maniez\, Rennes\, 35000\, France
END:VEVENT
BEGIN:VEVENT
DTSTART;TZID=Europe/Paris:20240727T110000
DTEND;TZID=Europe/Paris:20240727T190000
DTSTAMP:20260424T200029
CREATED:20240808T110652Z
LAST-MODIFIED:20240808T111709Z
UID:1304-1722078000-1722106800@loliverose.fr
SUMMARY:Pop-Up Store Eternelle Renaissance
DESCRIPTION:🐚 BOUTIQUE ÉPHÉMÈRE DE CRÉATRICE – ÉTERNELLE RENAISSANCE 🐚 \nÉdition de l’été 🌊 \nVenez plonger dans les univers des créatrices : \n🌺 Lunaria • Bijoux féériques en acier inoxydable • @lunaria_bijoux \n🌺 Dyschroma Art • Bijoux magiques • Henné • Illustration • @dyschroma_art \n🌺Reflets Clementine • Vitrail • @refletsclementine \n🌺 L’Olive Rose • Crochet • @l.olive_rose \nGUEST :\n💮Coralina • Macramé • @coraliiina.macrame
URL:https://loliverose.fr/event/pop-up-store-eternelle-renaissance/
LOCATION:Ty Anna\, 19 Pl. Sainte-Anne\, Rennes\, 35000\, France
ATTACH;FMTTYPE=image/jpeg:https://loliverose.fr/wp-content/uploads/2024/08/SUMMER-ETERNELLE-RENAISSANCE-EVENT-Affiche.jpg
END:VEVENT
BEGIN:VEVENT
DTSTART;TZID=Europe/Paris:20240721T110000
DTEND;TZID=Europe/Paris:20240721T180000
DTSTAMP:20260424T200029
CREATED:20240808T115459Z
LAST-MODIFIED:20240808T115459Z
UID:1319-1721559600-1721584800@loliverose.fr
SUMMARY:Marché de créatrices
DESCRIPTION:Marché artisanal regroupant des créateurs et créatrices locales !\n– A La Guiguette Le Préau du Cormierau Jardin d’Odile à A Saint Aubin Du Cormier Buvette et restauration sur place !\n\nAu programme\, venez à la rencontre d’une sélection de créatrices et créateurs de talents !
URL:https://loliverose.fr/event/marche-de-creatrices-2/
LOCATION:La Guiguette Le Préau du Cormier\, Jardin d'Odile\, Saint Aubin Du Cormier\, 35140\, France
END:VEVENT
BEGIN:VEVENT
DTSTART;TZID=Europe/Paris:20240705T170000
DTEND;TZID=Europe/Paris:20240705T220000
DTSTAMP:20260424T200029
CREATED:20240808T114620Z
LAST-MODIFIED:20240808T114620Z
UID:1315-1720198800-1720216800@loliverose.fr
SUMMARY:Marché de créatrices
DESCRIPTION:Le premier marché du mois de Juillet 🌞\nJe serais à @la_reine_de_coeur_bar_resto de 17h à 22h le vendredi 5 Juillet ! \nEn compagnie de :\n@yuna.llustrations\n@pastelbymaelys\n@atelier_distrait\n@neymustardho\n@blanpesh \nAffiche : @yuna.llustrations
URL:https://loliverose.fr/event/marche-de-creatrices/
LOCATION:La Reine de Coeur\, 44 Rue de Saint-Brieuc\, Rennes\, 35000\, France
ATTACH;FMTTYPE=image/jpeg:https://loliverose.fr/wp-content/uploads/2024/08/1723117051182.jpg
END:VEVENT
BEGIN:VEVENT
DTSTART;TZID=Europe/Paris:20240626T000000
DTEND;TZID=Europe/Paris:20240626T235959
DTSTAMP:20260424T200029
CREATED:20240808T122317Z
LAST-MODIFIED:20240808T122317Z
UID:1332-1719360000-1719446399@loliverose.fr
SUMMARY:Grande braderie
DESCRIPTION:GRANDE BRADERIE 2024 – NOUVEAU : La braderie s’étendra jusqu’à la place Hoche\, où s’installera un tout nouvel espace : la place des Artisans et Producteurs locaux. Sur cette place se trouveront toutes sortes de produits fabriqués localement : nourriture\, miel\, bijoux\, tissus\, rhums arrangés et un marché de créateurs géant ! Encore une super raison de ne pas manquer cette grande braderie 2024 😉 \n📍 La grande braderie 2024\, c’est le mercredi 26 juin !
URL:https://loliverose.fr/event/grande-braderie/
LOCATION:Place Hoche\, Place Hoche\, Rennes\, 35000\, France
END:VEVENT
BEGIN:VEVENT
DTSTART;TZID=Europe/Paris:20240614T100000
DTEND;TZID=Europe/Paris:20240615T190000
DTSTAMP:20260424T200029
CREATED:20240808T112639Z
LAST-MODIFIED:20240808T112639Z
UID:1311-1718359200-1718478000@loliverose.fr
SUMMARY:Pop-up Store Eternelle Renaissance
DESCRIPTION:ÉTERNELLE RENAISSANCE REVIENT ! \nVenez plonger dans les univers des Créatrices :\n🧡 @refletsclementine • Vitrail •\n🧡 @l.olive_rose • Crochet •\n🧡 @lunaria_bijoux • Bijoux magiques •\n🧡 @dyschroma_art • Bijoux magiques • Henné • Illustration • \nGUEST :\n🌸 @jessie.s.stuff • Accessoires colorés • Crochet • Tricot • Couture\n🌸 @fairystudiocandle • Bougies • Fondants •
URL:https://loliverose.fr/event/pop-up-store-eternelle-renaissance-2/
LOCATION:Villa Boubou\, 14 Rue Victor Hugo\, Rennes\, 35000\, France
ATTACH;FMTTYPE=image/jpeg:https://loliverose.fr/wp-content/uploads/2024/08/ETERNELLE-RENAISSANCE-post-1.jpg
END:VEVENT
END:VCALENDAR