BEGIN:VCALENDAR
VERSION:2.0
PRODID:-//L&#039;Olive Rose - ECPv6.15.20//NONSGML v1.0//EN
CALSCALE:GREGORIAN
METHOD:PUBLISH
X-WR-CALNAME:L&#039;Olive Rose
X-ORIGINAL-URL:https://loliverose.fr
X-WR-CALDESC:Évènements pour L&#039;Olive Rose
REFRESH-INTERVAL;VALUE=DURATION:PT1H
X-Robots-Tag:noindex
X-PUBLISHED-TTL:PT1H
BEGIN:VTIMEZONE
TZID:Europe/Paris
BEGIN:DAYLIGHT
TZOFFSETFROM:+0100
TZOFFSETTO:+0200
TZNAME:CEST
DTSTART:20250330T010000
END:DAYLIGHT
BEGIN:STANDARD
TZOFFSETFROM:+0200
TZOFFSETTO:+0100
TZNAME:CET
DTSTART:20251026T010000
END:STANDARD
BEGIN:DAYLIGHT
TZOFFSETFROM:+0100
TZOFFSETTO:+0200
TZNAME:CEST
DTSTART:20260329T010000
END:DAYLIGHT
BEGIN:STANDARD
TZOFFSETFROM:+0200
TZOFFSETTO:+0100
TZNAME:CET
DTSTART:20261025T010000
END:STANDARD
BEGIN:DAYLIGHT
TZOFFSETFROM:+0100
TZOFFSETTO:+0200
TZNAME:CEST
DTSTART:20270328T010000
END:DAYLIGHT
BEGIN:STANDARD
TZOFFSETFROM:+0200
TZOFFSETTO:+0100
TZNAME:CET
DTSTART:20271031T010000
END:STANDARD
END:VTIMEZONE
BEGIN:VEVENT
DTSTART;TZID=Europe/Paris:20260228T100000
DTEND;TZID=Europe/Paris:20260228T120000
DTSTAMP:20260424T195754
CREATED:20260128T103424Z
LAST-MODIFIED:20260128T103424Z
UID:2653-1772272800-1772280000@loliverose.fr
SUMMARY:Atelier crochet : crée ton marque-page en laine au crochet
DESCRIPTION:Durant cet atelier de 2h\, nous allons apprendre à crocheter un marque-page au crochet ! \n\nMatériel fourni\n\nInscription par mail : loliverose.creations@gmail.com ou message instagram : @l.olive_rose
URL:https://loliverose.fr/event/atelier-crochet-cree-ton-marque-page-en-laine-au-crochet/
LOCATION:Les Trois Marguerites\, 30 rue Saint Melaine\, Rennes\, 35000\, France
ATTACH;FMTTYPE=image/jpeg:https://loliverose.fr/wp-content/uploads/2026/01/1764082065414-scaled.jpg
ORGANIZER;CN="L'Olive Rose":MAILTO:loliverose.creations@gmail.com
END:VEVENT
END:VCALENDAR